BEGIN:VCALENDAR
PRODID:NingEventWidget-v1
VERSION:2.0
METHOD:PUBLISH
BEGIN:VTIMEZONE
TZID:Pacific/Midway
X-LIC-LOCATION:Pacific/Midway
BEGIN:STANDARD
TZOFFSETFROM:-1100
TZOFFSETTO:-1100
TZNAME:SST
DTSTART:19700101T000000
END:STANDARD
END:VTIMEZONE
BEGIN:VEVENT
UID:5072275:Event:1115798
DTSTAMP:20260421T225022Z
SUMMARY:Cruise In - Augusta, Ga
DESCRIPTION:Hooter's on Washington Road\n\nFor more information visit 
 https://www.southeastwheelsevents.com/events/cruise-in-augusta-ga-1
DTSTART;TZID=Pacific/Midway:20190112T180000
DTEND;TZID=Pacific/Midway:20190112T210000
CATEGORIES:car, show, cruise-in
LOCATION:Hooter's,
WEBSITE:https://www.google.co.in/maps?q=Hooters+on+Washington+Road&amp
 ;amp;amp;amp;amp;amp;amp;amp;amp;amp;um=1&amp;amp;amp;amp;amp;amp;amp;
 amp;amp;amp;ie=UTF-8&amp;amp;amp;amp;amp;amp;amp;amp;amp;amp;sa=X&amp;
 amp;amp;amp;amp;amp;amp;amp;amp;amp;ved=0ahUKEwip0-Oso5rcAhVLQo8KHVHZA
 -4Q_AUICigB
URL:https://www.google.co.in/maps?q=Hooters+on+Washington+Road&amp;amp
 ;amp;amp;amp;amp;amp;amp;amp;amp;um=1&amp;amp;amp;amp;amp;amp;amp;amp;
 amp;amp;ie=UTF-8&amp;amp;amp;amp;amp;amp;amp;amp;amp;amp;sa=X&amp;amp;
 amp;amp;amp;amp;amp;amp;amp;amp;ved=0ahUKEwip0-Oso5rcAhVLQo8KHVHZA-4Q_
 AUICigB
CONTACT:(706) 394-0444
ORGANIZER:Jan Holley
ATTACH;FMTTYPE="image/jpeg":http://storage.ning.com/topology/rest/1.0/
 file/get/967784120?profile=original
ATTENDEE;ROLE=REQ-PARTICIPANT;PARTSTAT=ACCEPTED;RSVP=TRUE;CN="Anthony 
 Hopkins":https://www.southeastwheelsevents.com/profile/AnthonyHopkins
END:VEVENT
END:VCALENDAR
