BEGIN:VCALENDAR
PRODID:NingEventWidget-v1
VERSION:2.0
METHOD:PUBLISH
BEGIN:VTIMEZONE
TZID:Pacific/Midway
X-LIC-LOCATION:Pacific/Midway
BEGIN:STANDARD
TZOFFSETFROM:-1100
TZOFFSETTO:-1100
TZNAME:SST
DTSTART:19700101T000000
END:STANDARD
END:VTIMEZONE
BEGIN:VEVENT
UID:5072275:Event:818680
DTSTAMP:20260423T134459Z
SUMMARY:Cruise In -Bainbridge, Ga
DESCRIPTION:Dairy Queen to confirm please call Steve Gordon 229-225-22
 66\n\nFor more information visit https://www.southeastwheelsevents.com
 /events/cruise-in-bainbridge-ga-2
DTSTART;TZID=Pacific/Midway:20140906T170000
DTEND;TZID=Pacific/Midway:20140906T210000
CATEGORIES:cruise-in
LOCATION:Dairy Queen
WEBSITE:
URL:
CONTACT:229-225-2266
ORGANIZER:Steve Gordon
ATTACH;FMTTYPE="image/jpeg":http://storage.ning.com/topology/rest/1.0/
 file/get/967565251?profile=original
ATTENDEE;ROLE=REQ-PARTICIPANT;PARTSTAT=ACCEPTED;RSVP=TRUE;CN="Chuck Aa
 ron":https://www.southeastwheelsevents.com/profile/ChuckAaron
END:VEVENT
END:VCALENDAR
