BEGIN:VCALENDAR
PRODID:NingEventWidget-v1
VERSION:2.0
METHOD:PUBLISH
BEGIN:VTIMEZONE
TZID:Pacific/Midway
X-LIC-LOCATION:Pacific/Midway
BEGIN:STANDARD
TZOFFSETFROM:-1100
TZOFFSETTO:-1100
TZNAME:SST
DTSTART:19700101T000000
END:STANDARD
END:VTIMEZONE
BEGIN:VEVENT
UID:5072275:Event:1093596
DTSTAMP:20260421T062944Z
SUMMARY:Cruise In - Bakersville, Nc
DESCRIPTION:City Drive In\n\nFor more information visit https://www.so
 utheastwheelsevents.com/events/cruise-in-bakersville-nc-3
DTSTART;TZID=Pacific/Midway:20180922T180000
DTEND;TZID=Pacific/Midway:20180922T210000
CATEGORIES:car, show, cruise, in
LOCATION:City Drive In,
WEBSITE:
URL:
CONTACT:(828) 688-4025, (828) 765-4281
ORGANIZER:Don Stafford, Roger Wilson
ATTACH;FMTTYPE="image/jpeg":http://storage.ning.com/topology/rest/1.0/
 file/get/967787776?profile=original
ATTENDEE;ROLE=REQ-PARTICIPANT;PARTSTAT=ACCEPTED;RSVP=TRUE;CN="Anthony 
 Hopkins":https://www.southeastwheelsevents.com/profile/AnthonyHopkins
END:VEVENT
END:VCALENDAR
