BEGIN:VCALENDAR
PRODID:NingEventWidget-v1
VERSION:2.0
METHOD:PUBLISH
BEGIN:VTIMEZONE
TZID:Pacific/Midway
X-LIC-LOCATION:Pacific/Midway
BEGIN:STANDARD
TZOFFSETFROM:-1100
TZOFFSETTO:-1100
TZNAME:SST
DTSTART:19700101T000000
END:STANDARD
END:VTIMEZONE
BEGIN:VEVENT
UID:5072275:Event:1105729
DTSTAMP:20260424T045413Z
SUMMARY:Cruise In - Blairsville, Ga
DESCRIPTION:Farmers Market on Weavers Road\n\nFor more information vis
 it https://www.southeastwheelsevents.com/events/cruise-in-blairsville-
 ga-4
DTSTART;TZID=Pacific/Midway:20181201T180000
DTEND;TZID=Pacific/Midway:20181201T210000
CATEGORIES:car, show
LOCATION:Farmers Market,
WEBSITE:http://Blairs-villeCruisers.com
URL:http://Blairs-villeCruisers.com
CONTACT:(678) 773-5934
ORGANIZER:Pete Barley
ATTACH;FMTTYPE="image/jpeg":http://storage.ning.com/topology/rest/1.0/
 file/get/967784177?profile=original
ATTENDEE;ROLE=REQ-PARTICIPANT;PARTSTAT=ACCEPTED;RSVP=TRUE;CN="Anthony 
 Hopkins":https://www.southeastwheelsevents.com/profile/AnthonyHopkins
END:VEVENT
END:VCALENDAR
