BEGIN:VCALENDAR
PRODID:NingEventWidget-v1
VERSION:2.0
METHOD:PUBLISH
BEGIN:VTIMEZONE
TZID:Pacific/Midway
X-LIC-LOCATION:Pacific/Midway
BEGIN:STANDARD
TZOFFSETFROM:-1100
TZOFFSETTO:-1100
TZNAME:SST
DTSTART:19700101T000000
END:STANDARD
END:VTIMEZONE
BEGIN:VEVENT
UID:5072275:Event:1088344
DTSTAMP:20260423T094929Z
SUMMARY:Cruise In - BREVARD, NC
DESCRIPTION:Cruise In at Cardinal Drive In on South Broad Street.\n\nF
 or more information visit https://www.southeastwheelsevents.com/events
 /cruise-in-brevard-nc-2
DTSTART;TZID=Pacific/Midway:20180728T160000
DTEND;TZID=Pacific/Midway:20180728T200000
CATEGORIES:car, show
LOCATION:Cardinal Drive In
WEBSITE:http://transylvaniacruises.com
URL:http://transylvaniacruises.com
CONTACT:(828) 553-0361
ORGANIZER:JB
ATTACH;FMTTYPE="image/jpeg":http://storage.ning.com/topology/rest/1.0/
 file/get/967777547?profile=original
ATTENDEE;ROLE=REQ-PARTICIPANT;PARTSTAT=ACCEPTED;RSVP=TRUE;CN="Anthony 
 Hopkins":https://www.southeastwheelsevents.com/profile/AnthonyHopkins
END:VEVENT
END:VCALENDAR
