BEGIN:VCALENDAR
PRODID:NingEventWidget-v1
VERSION:2.0
METHOD:PUBLISH
BEGIN:VTIMEZONE
TZID:Pacific/Midway
X-LIC-LOCATION:Pacific/Midway
BEGIN:STANDARD
TZOFFSETFROM:-1100
TZOFFSETTO:-1100
TZNAME:SST
DTSTART:19700101T000000
END:STANDARD
END:VTIMEZONE
BEGIN:VEVENT
UID:5072275:Event:1106515
DTSTAMP:20260422T140738Z
SUMMARY:Cruise In – Cedartown, Ga
DESCRIPTION:Downtown\n\nFor more information visit https://www.southea
 stwheelsevents.com/events/cruise-in-cedartown-ga-2
DTSTART;TZID=Pacific/Midway:20181123T180000
DTEND;TZID=Pacific/Midway:20181123T210000
CATEGORIES:car, show, cruise-in
LOCATION:Cedartown, Ga
WEBSITE:
URL:
CONTACT:(770) 546-8965
ORGANIZER:Donny McKibben
ATTACH;FMTTYPE="image/jpeg":http://storage.ning.com/topology/rest/1.0/
 file/get/967788862?profile=original
ATTENDEE;ROLE=REQ-PARTICIPANT;PARTSTAT=ACCEPTED;RSVP=TRUE;CN="Anthony 
 Hopkins":https://www.southeastwheelsevents.com/profile/AnthonyHopkins
END:VEVENT
END:VCALENDAR
