BEGIN:VCALENDAR
PRODID:NingEventWidget-v1
VERSION:2.0
METHOD:PUBLISH
BEGIN:VTIMEZONE
TZID:Pacific/Midway
X-LIC-LOCATION:Pacific/Midway
BEGIN:STANDARD
TZOFFSETFROM:-1100
TZOFFSETTO:-1100
TZNAME:SST
DTSTART:19700101T000000
END:STANDARD
END:VTIMEZONE
BEGIN:VEVENT
UID:5072275:Event:1120309
DTSTAMP:20260421T180703Z
SUMMARY:Cruise In - Charleston, Sc
DESCRIPTION:Bessinger's BBQ, Highway 17.\n\nFor more information visit
  https://www.southeastwheelsevents.com/events/cruise-in-charleston-sc-
 7
DTSTART;TZID=Pacific/Midway:20190306T180000
DTEND;TZID=Pacific/Midway:20190306T210000
CATEGORIES:car, show
LOCATION:Bessinger's BBQ,
WEBSITE:https://www.google.co.in/maps/place/Bessinger&amp;amp;amp;#039
 ;s+BBQ+Restaurant/@32.7869764,-80.0139772,17z/data=!3m1!4b1!4m5!3m4!1s
 0x88fe7c0bc8f3fa49:0x45953252f7adcced!8m2!3d32.7869719!4d-80.0117885
URL:https://www.google.co.in/maps/place/Bessinger&amp;amp;amp;#039;s+B
 BQ+Restaurant/@32.7869764,-80.0139772,17z/data=!3m1!4b1!4m5!3m4!1s0x88
 fe7c0bc8f3fa49:0x45953252f7adcced!8m2!3d32.7869719!4d-80.0117885
CONTACT:(843) 571-2264
ORGANIZER:Tom Jameson
ATTACH;FMTTYPE="image/jpeg":http://storage.ning.com/topology/rest/1.0/
 file/get/967783337?profile=original
ATTENDEE;ROLE=REQ-PARTICIPANT;PARTSTAT=ACCEPTED;RSVP=TRUE;CN="Anthony 
 Hopkins":https://www.southeastwheelsevents.com/profile/AnthonyHopkins
END:VEVENT
END:VCALENDAR
