BEGIN:VCALENDAR
PRODID:NingEventWidget-v1
VERSION:2.0
METHOD:PUBLISH
BEGIN:VTIMEZONE
TZID:Pacific/Midway
X-LIC-LOCATION:Pacific/Midway
BEGIN:STANDARD
TZOFFSETFROM:-1100
TZOFFSETTO:-1100
TZNAME:SST
DTSTART:19700101T000000
END:STANDARD
END:VTIMEZONE
BEGIN:VEVENT
UID:5072275:Event:1106220
DTSTAMP:20260424T000205Z
SUMMARY:Vintage Swap Meet -Clermont, GA
DESCRIPTION:Vintage Swap Meet -Clermont, GA\r\nCars & Trucks.\n\nFor m
 ore information visit https://www.southeastwheelsevents.com/events/cru
 ise-in-clermont-ga
DTSTART;TZID=Pacific/Midway:20241123T070000
DTEND;TZID=Pacific/Midway:20241123T133000
CATEGORIES:car, show
LOCATION:Chattahoochie Park
WEBSITE:
URL:
CONTACT:(770) 318-6709
ORGANIZER:Warren Weaver
ATTACH;FMTTYPE="image/jpeg":http://storage.ning.com/topology/rest/1.0/
 file/get/967783297?profile=original
ATTENDEE;ROLE=REQ-PARTICIPANT;PARTSTAT=ACCEPTED;RSVP=TRUE;CN="Anthony 
 Hopkins":https://www.southeastwheelsevents.com/profile/AnthonyHopkins
END:VEVENT
END:VCALENDAR
