BEGIN:VCALENDAR
PRODID:NingEventWidget-v1
VERSION:2.0
METHOD:PUBLISH
BEGIN:VTIMEZONE
TZID:Pacific/Midway
X-LIC-LOCATION:Pacific/Midway
BEGIN:STANDARD
TZOFFSETFROM:-1100
TZOFFSETTO:-1100
TZNAME:SST
DTSTART:19700101T000000
END:STANDARD
END:VTIMEZONE
BEGIN:VEVENT
UID:5072275:Event:1106559
DTSTAMP:20260423T062328Z
SUMMARY:Cruise In - Columbus, Ga
DESCRIPTION:Columbus Corvette Club, Sonic-In, 5555 Whittlsey Blvd.\n\n
 For more information visit https://www.southeastwheelsevents.com/event
 s/cruise-in-columbus-ga-19
DTSTART;TZID=Pacific/Midway:20181122T180000
DTEND;TZID=Pacific/Midway:20181122T210000
CATEGORIES:car, show, cruise-in
LOCATION:Columbus Corvette Club Sonic-In,
WEBSITE:https://www.google.co.in/maps?q=Sonic-In,+5555+Whittlesey+Blvd
 ,+Columbus,+Ga&amp;amp;amp;amp;amp;um=1&amp;amp;amp;amp;amp;ie=UTF-8&a
 mp;amp;amp;amp;amp;sa=X&amp;amp;amp;amp;amp;ved=0ahUKEwju-pvKtKbcAhUFK
 Y8KHd-LBlUQ_AUICigB
URL:https://www.google.co.in/maps?q=Sonic-In,+5555+Whittlesey+Blvd,+Co
 lumbus,+Ga&amp;amp;amp;amp;amp;um=1&amp;amp;amp;amp;amp;ie=UTF-8&amp;a
 mp;amp;amp;amp;sa=X&amp;amp;amp;amp;amp;ved=0ahUKEwju-pvKtKbcAhUFKY8KH
 d-LBlUQ_AUICigB
CONTACT:(706)-561-0901
ORGANIZER:Ken Shields
ATTACH;FMTTYPE="image/jpeg":http://storage.ning.com/topology/rest/1.0/
 file/get/967785139?profile=original
ATTENDEE;ROLE=REQ-PARTICIPANT;PARTSTAT=ACCEPTED;RSVP=TRUE;CN="Anthony 
 Hopkins":https://www.southeastwheelsevents.com/profile/AnthonyHopkins
END:VEVENT
END:VCALENDAR
