BEGIN:VCALENDAR
PRODID:NingEventWidget-v1
VERSION:2.0
METHOD:PUBLISH
BEGIN:VTIMEZONE
TZID:Pacific/Midway
X-LIC-LOCATION:Pacific/Midway
BEGIN:STANDARD
TZOFFSETFROM:-1100
TZOFFSETTO:-1100
TZNAME:SST
DTSTART:19700101T000000
END:STANDARD
END:VTIMEZONE
BEGIN:VEVENT
UID:5072275:Event:14158
DTSTAMP:20260422T140328Z
SUMMARY:Cruise In -Crestview, FL
DESCRIPTION:Cruise In -Crestview, FL\nEvery 2nd Friday - Confirm with 
 Danny Tate 850-682-6632 or Darrell Blocker 850-682-5090\n\nFor more in
 formation visit https://www.southeastwheelsevents.com/events/cruise-in
 -crestview-fl-1
DTSTART;TZID=Pacific/Midway:20100514T180000
DTEND;TZID=Pacific/Midway:20100514T210000
CATEGORIES:cruise-in
LOCATION:Hide-A-Way Pizza
WEBSITE:
URL:
CONTACT:Danny Tate 850-682-6632 or Darrell Blocker 850-682-5090
ORGANIZER:
ATTACH;FMTTYPE="image/jpeg":
ATTENDEE;ROLE=REQ-PARTICIPANT;PARTSTAT=ACCEPTED;RSVP=TRUE;CN="Michael 
 Thies":https://www.southeastwheelsevents.com/profile/MichaelThies
END:VEVENT
END:VCALENDAR
