BEGIN:VCALENDAR
PRODID:NingEventWidget-v1
VERSION:2.0
METHOD:PUBLISH
BEGIN:VTIMEZONE
TZID:Pacific/Midway
X-LIC-LOCATION:Pacific/Midway
BEGIN:STANDARD
TZOFFSETFROM:-1100
TZOFFSETTO:-1100
TZNAME:SST
DTSTART:19700101T000000
END:STANDARD
END:VTIMEZONE
BEGIN:VEVENT
UID:5072275:Event:14160
DTSTAMP:20260422T212203Z
SUMMARY:Cruise In -Dothan, AL
DESCRIPTION:Cruise In -Dothan, AL\nEvery 2nd Friday - Confirm with Ear
 l 334-791-7388 or Richard 334-797-2863\n\nFor more information visit h
 ttps://www.southeastwheelsevents.com/events/cruise-in-dothan-al
DTSTART;TZID=Pacific/Midway:20100514T180000
DTEND;TZID=Pacific/Midway:20100514T210000
CATEGORIES:cruise-in
LOCATION:Houston county Courthouse
WEBSITE:
URL:
CONTACT:Earl 334-791-7388 or Richard 334-797-2863
ORGANIZER:
ATTACH;FMTTYPE="image/jpeg":
END:VEVENT
END:VCALENDAR
