BEGIN:VCALENDAR
PRODID:NingEventWidget-v1
VERSION:2.0
METHOD:PUBLISH
BEGIN:VTIMEZONE
TZID:Pacific/Midway
X-LIC-LOCATION:Pacific/Midway
BEGIN:STANDARD
TZOFFSETFROM:-1100
TZOFFSETTO:-1100
TZNAME:SST
DTSTART:19700101T000000
END:STANDARD
END:VTIMEZONE
BEGIN:VEVENT
UID:5072275:Event:15622
DTSTAMP:20260422T011104Z
SUMMARY:Cruise In -Dunwoody, GA
DESCRIPTION:Cruise In - Every 2nd Thursday of the Month\nCall to confi
 rm with Rick Woroniecki 770-331-9324\n\nFor more information visit htt
 ps://www.southeastwheelsevents.com/events/cruise-in-dunwoody-ga-3
DTSTART;TZID=Pacific/Midway:20100513T180000
DTEND;TZID=Pacific/Midway:20100513T210000
CATEGORIES:crusie-in
LOCATION:Downtown
WEBSITE:
URL:
CONTACT:Rick Woroniecki 770-331-9324
ORGANIZER:
ATTACH;FMTTYPE="image/jpeg":http://storage.ning.com/topology/rest/1.0/
 file/get/967575569?profile=original
ATTENDEE;ROLE=REQ-PARTICIPANT;PARTSTAT=TENTATIVE;RSVP=TRUE;CN="Michael
  Thies":https://www.southeastwheelsevents.com/profile/MichaelThies
END:VEVENT
END:VCALENDAR
