BEGIN:VCALENDAR
PRODID:NingEventWidget-v1
VERSION:2.0
METHOD:PUBLISH
BEGIN:VTIMEZONE
TZID:Pacific/Midway
X-LIC-LOCATION:Pacific/Midway
BEGIN:STANDARD
TZOFFSETFROM:-1100
TZOFFSETTO:-1100
TZNAME:SST
DTSTART:19700101T000000
END:STANDARD
END:VTIMEZONE
BEGIN:VEVENT
UID:5072275:Event:895963
DTSTAMP:20260425T115221Z
SUMMARY:Cruise In for Christ Car & Truck Show -Dunlap, TN
DESCRIPTION:Cruise In for Christ Car & Truck Show at Restoration Point
 e Church of God\n\nFor more information visit https://www.southeastwhe
 elsevents.com/events/cruise-in-for-christ-car-truck-show-dunalp-tn
DTSTART;TZID=Pacific/Midway:20150606T100000
DTEND;TZID=Pacific/Midway:20150606T140000
CATEGORIES:car-show, fundraiser
LOCATION:4024 Fredonia Road
WEBSITE:
URL:
CONTACT:Donnie Turner 423-309-7627, Ray Hobbs 423-290-1961
ORGANIZER:Restoration Pointe Church of God
ATTACH;FMTTYPE="image/jpeg":http://storage.ning.com/topology/rest/1.0/
 file/get/967692957?profile=original
ATTENDEE;ROLE=REQ-PARTICIPANT;PARTSTAT=ACCEPTED;RSVP=TRUE;CN="Chuck Aa
 ron":https://www.southeastwheelsevents.com/profile/ChuckAaron
END:VEVENT
END:VCALENDAR
