BEGIN:VCALENDAR
PRODID:NingEventWidget-v1
VERSION:2.0
METHOD:PUBLISH
BEGIN:VTIMEZONE
TZID:Pacific/Midway
X-LIC-LOCATION:Pacific/Midway
BEGIN:STANDARD
TZOFFSETFROM:-1100
TZOFFSETTO:-1100
TZNAME:SST
DTSTART:19700101T000000
END:STANDARD
END:VTIMEZONE
BEGIN:VEVENT
UID:5072275:Event:1188207
DTSTAMP:20260420T161427Z
SUMMARY:Cruise-In For The Veterans, Marietta, GA
DESCRIPTION:Have fun while helping our veterans. The Memorial Day Crui
 se-In for Veterans is a part of the National Buddy Poppy Fundraiser. A
 ll the money raised goes to help veterans and their families in need. 
 The money also helps us ship boxes to our troops in Afghanistan. Rain
  Date is May 30, 2020. Vintage cars and trucks, muscle cars, street ro
 ds and classic motorcycles are welcome to cruise-in. \n\nFor more inf
 ormation visit https://www.southeastwheelsevents.com/events/cruise-in-
 for-the-veterans-marietta-ga
DTSTART;TZID=Pacific/Midway:20200523T100000
DTEND;TZID=Pacific/Midway:20200523T160000
CATEGORIES:fundraiser
LOCATION:VFW Post 2681
WEBSITE:http://vfw2681.org
URL:http://vfw2681.org
CONTACT:(770) 845-8872
ORGANIZER;CN="Gloria Dunaway":https://www.southeastwheelsevents.com/pr
 ofile/GloriaDunaway
ATTACH;FMTTYPE="image/jpeg":https://storage.ning.com/topology/rest/1.0
 /file/get/3857505599?profile=original
ATTENDEE;ROLE=REQ-PARTICIPANT;PARTSTAT=ACCEPTED;RSVP=TRUE;CN="Gloria D
 unaway":https://www.southeastwheelsevents.com/profile/GloriaDunaway
END:VEVENT
END:VCALENDAR
