BEGIN:VCALENDAR
PRODID:NingEventWidget-v1
VERSION:2.0
METHOD:PUBLISH
BEGIN:VTIMEZONE
TZID:Pacific/Midway
X-LIC-LOCATION:Pacific/Midway
BEGIN:STANDARD
TZOFFSETFROM:-1100
TZOFFSETTO:-1100
TZNAME:SST
DTSTART:19700101T000000
END:STANDARD
END:VTIMEZONE
BEGIN:VEVENT
UID:5072275:Event:1114173
DTSTAMP:20260420T111328Z
SUMMARY:Cruise In - Greenville, SC
DESCRIPTION:Chick-Fil-A, Dill Creek Commons\n\nFor more information vi
 sit https://www.southeastwheelsevents.com/events/cruise-in-greenville-
 sc-9
DTSTART;TZID=Pacific/Midway:20190302T180000
DTEND;TZID=Pacific/Midway:20190302T210000
CATEGORIES:car, show, cruise-in
LOCATION:Chick-Fil-A,
WEBSITE:https://www.google.co.in/maps/place/Chick-fil-A/@34.9390117,-8
 2.2681141,17z/data=!3m1!4b1!4m5!3m4!1s0x88582b1a51b6f40f:0xe6b253ef47a
 1b8cb!8m2!3d34.9390073!4d-82.2659254
URL:https://www.google.co.in/maps/place/Chick-fil-A/@34.9390117,-82.26
 81141,17z/data=!3m1!4b1!4m5!3m4!1s0x88582b1a51b6f40f:0xe6b253ef47a1b8c
 b!8m2!3d34.9390073!4d-82.2659254
CONTACT:(864) 423-4039, (864) 230-2075
ORGANIZER:
ATTACH;FMTTYPE="image/jpeg":http://storage.ning.com/topology/rest/1.0/
 file/get/967785126?profile=original
ATTENDEE;ROLE=REQ-PARTICIPANT;PARTSTAT=ACCEPTED;RSVP=TRUE;CN="Anthony 
 Hopkins":https://www.southeastwheelsevents.com/profile/AnthonyHopkins
END:VEVENT
END:VCALENDAR
