BEGIN:VCALENDAR
PRODID:NingEventWidget-v1
VERSION:2.0
METHOD:PUBLISH
BEGIN:VTIMEZONE
TZID:Pacific/Midway
X-LIC-LOCATION:Pacific/Midway
BEGIN:STANDARD
TZOFFSETFROM:-1100
TZOFFSETTO:-1100
TZNAME:SST
DTSTART:19700101T000000
END:STANDARD
END:VTIMEZONE
BEGIN:VEVENT
UID:5072275:Event:1094916
DTSTAMP:20260420T061633Z
SUMMARY:Cruise In - Huntsville, Al
DESCRIPTION:Rocket City Tavern, 2100 Rideout Road\n\nFor more informat
 ion visit https://www.southeastwheelsevents.com/events/cruise-in-hunts
 ville-al-1
DTSTART;TZID=Pacific/Midway:20180922T180000
DTEND;TZID=Pacific/Midway:20180922T210000
CATEGORIES:car, show, cruise, in
LOCATION:Rocket City Tavern,
WEBSITE:https://www.google.com/maps/place/Rocket+City+Tavern/@34.69697
 83,-86.6756229,17z/data=!3m1!4b1!4m5!3m4!1s0x88626e904985e389:0x2fa605
 89ab9c9b08!8m2!3d34.6969783!4d-86.6734342
URL:https://www.google.com/maps/place/Rocket+City+Tavern/@34.6969783,-
 86.6756229,17z/data=!3m1!4b1!4m5!3m4!1s0x88626e904985e389:0x2fa60589ab
 9c9b08!8m2!3d34.6969783!4d-86.6734342
CONTACT:(931) 216-8764
ORGANIZER:Mike Keenan
ATTACH;FMTTYPE="image/jpeg":http://storage.ning.com/topology/rest/1.0/
 file/get/967788845?profile=original
ATTENDEE;ROLE=REQ-PARTICIPANT;PARTSTAT=ACCEPTED;RSVP=TRUE;CN="Anthony 
 Hopkins":https://www.southeastwheelsevents.com/profile/AnthonyHopkins
END:VEVENT
END:VCALENDAR
