BEGIN:VCALENDAR
PRODID:NingEventWidget-v1
VERSION:2.0
METHOD:PUBLISH
BEGIN:VTIMEZONE
TZID:Pacific/Midway
X-LIC-LOCATION:Pacific/Midway
BEGIN:STANDARD
TZOFFSETFROM:-1100
TZOFFSETTO:-1100
TZNAME:SST
DTSTART:19700101T000000
END:STANDARD
END:VTIMEZONE
BEGIN:VEVENT
UID:5072275:Event:1106698
DTSTAMP:20260423T230453Z
SUMMARY:Cruise In – Jacksonville, Fl
DESCRIPTION:Sonic on Normandy\n\nFor more information visit https://ww
 w.southeastwheelsevents.com/events/cruise-in-jacksonville-fl-13
DTSTART;TZID=Pacific/Midway:20181215T180000
DTEND;TZID=Pacific/Midway:20181215T210000
CATEGORIES:car, show, cruise, in
LOCATION:Sonic on Normandy,
WEBSITE:https://www.google.co.in/maps/place/Sonic+Drive-In/@30.3011657
 ,-81.7670122,17z/data=!3m1!4b1!4m5!3m4!1s0x88e5b8c4e3be507b:0x8e8dc499
 534cb789!8m2!3d30.3011611!4d-81.7648235
URL:https://www.google.co.in/maps/place/Sonic+Drive-In/@30.3011657,-81
 .7670122,17z/data=!3m1!4b1!4m5!3m4!1s0x88e5b8c4e3be507b:0x8e8dc499534c
 b789!8m2!3d30.3011611!4d-81.7648235
CONTACT:(904) 654-2918
ORGANIZER;CN="Anthony Hopkins":https://www.southeastwheelsevents.com/p
 rofile/AnthonyHopkins
ATTACH;FMTTYPE="image/jpeg":http://storage.ning.com/topology/rest/1.0/
 file/get/967789106?profile=original
ATTENDEE;ROLE=REQ-PARTICIPANT;PARTSTAT=ACCEPTED;RSVP=TRUE;CN="Anthony 
 Hopkins":https://www.southeastwheelsevents.com/profile/AnthonyHopkins
END:VEVENT
END:VCALENDAR
