BEGIN:VCALENDAR
PRODID:NingEventWidget-v1
VERSION:2.0
METHOD:PUBLISH
BEGIN:VTIMEZONE
TZID:Pacific/Midway
X-LIC-LOCATION:Pacific/Midway
BEGIN:STANDARD
TZOFFSETFROM:-1100
TZOFFSETTO:-1100
TZNAME:SST
DTSTART:19700101T000000
END:STANDARD
END:VTIMEZONE
BEGIN:VEVENT
UID:5072275:Event:1107083
DTSTAMP:20260423T060034Z
SUMMARY:Cruise In - Jasper, Ga
DESCRIPTION:Main Street\n\nFor more information visit https://www.sout
 heastwheelsevents.com/events/cruise-in-jasper-ga-4
DTSTART;TZID=Pacific/Midway:20181124T150000
DTEND;TZID=Pacific/Midway:20181124T190000
CATEGORIES:car, show, cruise, in
LOCATION:Jasper, Ga
WEBSITE:
URL:
CONTACT:(770) 893-7638
ORGANIZER:Donny Fowler
ATTACH;FMTTYPE="image/jpeg":http://storage.ning.com/topology/rest/1.0/
 file/get/967791535?profile=original
ATTENDEE;ROLE=REQ-PARTICIPANT;PARTSTAT=ACCEPTED;RSVP=TRUE;CN="Anthony 
 Hopkins":https://www.southeastwheelsevents.com/profile/AnthonyHopkins
END:VEVENT
END:VCALENDAR
