BEGIN:VCALENDAR
PRODID:NingEventWidget-v1
VERSION:2.0
METHOD:PUBLISH
BEGIN:VTIMEZONE
TZID:Pacific/Midway
X-LIC-LOCATION:Pacific/Midway
BEGIN:STANDARD
TZOFFSETFROM:-1100
TZOFFSETTO:-1100
TZNAME:SST
DTSTART:19700101T000000
END:STANDARD
END:VTIMEZONE
BEGIN:VEVENT
UID:5072275:Event:1114426
DTSTAMP:20260420T105155Z
SUMMARY:Cruise In - Jesup, Ga
DESCRIPTION:Hardee's, North First Street\n\nFor more information visit
  https://www.southeastwheelsevents.com/events/cruise-in-jesup-ga-13
DTSTART;TZID=Pacific/Midway:20190302T180000
DTEND;TZID=Pacific/Midway:20190302T210000
CATEGORIES:cruise-in, car, show
LOCATION:Hardee's,
WEBSITE:
URL:
CONTACT:(912) 427-6545
ORGANIZER:Mary Lou
ATTACH;FMTTYPE="image/jpeg":http://storage.ning.com/topology/rest/1.0/
 file/get/967785175?profile=original
ATTENDEE;ROLE=REQ-PARTICIPANT;PARTSTAT=ACCEPTED;RSVP=TRUE;CN="Anthony 
 Hopkins":https://www.southeastwheelsevents.com/profile/AnthonyHopkins
END:VEVENT
END:VCALENDAR
