BEGIN:VCALENDAR
PRODID:NingEventWidget-v1
VERSION:2.0
METHOD:PUBLISH
BEGIN:VTIMEZONE
TZID:Pacific/Midway
X-LIC-LOCATION:Pacific/Midway
BEGIN:STANDARD
TZOFFSETFROM:-1100
TZOFFSETTO:-1100
TZNAME:SST
DTSTART:19700101T000000
END:STANDARD
END:VTIMEZONE
BEGIN:VEVENT
UID:5072275:Event:1120258
DTSTAMP:20260419T091154Z
SUMMARY:Cruise In - Lake City, Fl
DESCRIPTION:Hardee's, Highway 90W.\n\nFor more information visit https
 ://www.southeastwheelsevents.com/events/cruise-in-lake-city-fl-897
DTSTART;TZID=Pacific/Midway:20190517T180000
DTEND;TZID=Pacific/Midway:20190517T210000
CATEGORIES:car, show
LOCATION:Hardee's, Highway 90W
WEBSITE:https://www.google.co.in/maps/place/Hardee&amp;amp;amp;amp;amp
 ;amp;amp;amp;amp;amp;amp;amp;#039;s/@30.1849221,-82.6750498,14z/data=!
 4m8!1m2!2m1!1sHardee&amp;amp;amp;amp;amp;amp;amp;amp;amp;amp;amp;amp;#
 039;s+Highway+90W+LAKE+CITY,+FL!3m4!1s0x0:0xa9e5a380e3012738!8m2!3d30.
 1801216!4d-82.6749194
URL:https://www.google.co.in/maps/place/Hardee&amp;amp;amp;amp;amp;amp
 ;amp;amp;amp;amp;amp;amp;#039;s/@30.1849221,-82.6750498,14z/data=!4m8!
 1m2!2m1!1sHardee&amp;amp;amp;amp;amp;amp;amp;amp;amp;amp;amp;amp;#039;
 s+Highway+90W+LAKE+CITY,+FL!3m4!1s0x0:0xa9e5a380e3012738!8m2!3d30.1801
 216!4d-82.6749194
CONTACT:(386) 755-4672
ORGANIZER:Hardee's
ATTACH;FMTTYPE="image/jpeg":http://storage.ning.com/topology/rest/1.0/
 file/get/967778913?profile=original
ATTENDEE;ROLE=REQ-PARTICIPANT;PARTSTAT=ACCEPTED;RSVP=TRUE;CN="Anthony 
 Hopkins":https://www.southeastwheelsevents.com/profile/AnthonyHopkins
END:VEVENT
END:VCALENDAR
