BEGIN:VCALENDAR
PRODID:NingEventWidget-v1
VERSION:2.0
METHOD:PUBLISH
BEGIN:VTIMEZONE
TZID:Pacific/Midway
X-LIC-LOCATION:Pacific/Midway
BEGIN:STANDARD
TZOFFSETFROM:-1100
TZOFFSETTO:-1100
TZNAME:SST
DTSTART:19700101T000000
END:STANDARD
END:VTIMEZONE
BEGIN:VEVENT
UID:5072275:Event:1113831
DTSTAMP:20260424T140141Z
SUMMARY:Cruise In - Lebanon, TN
DESCRIPTION:Cruise In- LEBANON, TN, Lebanon Premium Outlets, One Outle
 t Village Blvd.\n\nFor more information visit https://www.southeastwhe
 elsevents.com/events/cruise-in-lebanon-tn-22
DTSTART;TZID=Pacific/Midway:20191012T180000
DTEND;TZID=Pacific/Midway:20191012T210000
CATEGORIES:car, show
LOCATION:Lebanon Premium Outlets
WEBSITE:http://southeastwheelsevents.ning.com/events/event/listUpcomin
 g
URL:http://southeastwheelsevents.ning.com/events/event/listUpcoming
CONTACT:(615) 604-3554
ORGANIZER:Lebanon Cruise In
ATTACH;FMTTYPE="image/jpeg":http://storage.ning.com/topology/rest/1.0/
 file/get/967779925?profile=original
ATTENDEE;ROLE=REQ-PARTICIPANT;PARTSTAT=ACCEPTED;RSVP=TRUE;CN="Chuck Aa
 ron":https://www.southeastwheelsevents.com/profile/ChuckAaron886
ATTENDEE;ROLE=REQ-PARTICIPANT;PARTSTAT=ACCEPTED;RSVP=TRUE;CN="Anthony 
 Hopkins":https://www.southeastwheelsevents.com/profile/AnthonyHopkins
END:VEVENT
END:VCALENDAR
