BEGIN:VCALENDAR
PRODID:NingEventWidget-v1
VERSION:2.0
METHOD:PUBLISH
BEGIN:VTIMEZONE
TZID:Pacific/Midway
X-LIC-LOCATION:Pacific/Midway
BEGIN:STANDARD
TZOFFSETFROM:-1100
TZOFFSETTO:-1100
TZNAME:SST
DTSTART:19700101T000000
END:STANDARD
END:VTIMEZONE
BEGIN:VEVENT
UID:5072275:Event:1115049
DTSTAMP:20260423T143830Z
SUMMARY:Cruise In - Lexington, Sc
DESCRIPTION:Larry's Giant Subs, 2001 Augusta Highway.\n\nFor more info
 rmation visit https://www.southeastwheelsevents.com/events/cruise-in-l
 exington-sc-17
DTSTART;TZID=Pacific/Midway:20181201T180000
DTEND;TZID=Pacific/Midway:20181201T210000
CATEGORIES:car, show, cruise, in
LOCATION:Larry's Giant Subs,
WEBSITE:https://www.google.co.in/maps/place/Larry&amp;amp;amp;amp;#039
 ;s+Giant+Subs/@1.7474331,-89.462282,3z/data=!4m19!1m13!4m12!1m4!2m2!1d
 75.8767616!2d22.7196928!4e1!1m6!1m2!1s0x88f890e2d4f5b919:0x91a62b6ce84
 82a95!2sLarry&amp;amp;amp;amp;#039;s+Giant+Subs,+2001+Augusta+Highway,
 +Lexington,+Sc!2m2!1d-81.2839063!2d33.9803748!3m4!1s0x88f890e2d4f5b919
 :0x91a62b6ce8482a95!8m2!3d33.9803748!4d-81.2839063
URL:https://www.google.co.in/maps/place/Larry&amp;amp;amp;amp;#039;s+G
 iant+Subs/@1.7474331,-89.462282,3z/data=!4m19!1m13!4m12!1m4!2m2!1d75.8
 767616!2d22.7196928!4e1!1m6!1m2!1s0x88f890e2d4f5b919:0x91a62b6ce8482a9
 5!2sLarry&amp;amp;amp;amp;#039;s+Giant+Subs,+2001+Augusta+Highway,+Lex
 ington,+Sc!2m2!1d-81.2839063!2d33.9803748!3m4!1s0x88f890e2d4f5b919:0x9
 1a62b6ce8482a95!8m2!3d33.9803748!4d-81.2839063
CONTACT:803-957-3781
ORGANIZER:Doug
ATTACH;FMTTYPE="image/jpeg":http://storage.ning.com/topology/rest/1.0/
 file/get/967806266?profile=original
ATTENDEE;ROLE=REQ-PARTICIPANT;PARTSTAT=ACCEPTED;RSVP=TRUE;CN="Anthony 
 Hopkins":https://www.southeastwheelsevents.com/profile/AnthonyHopkins
END:VEVENT
END:VCALENDAR
