BEGIN:VCALENDAR
PRODID:NingEventWidget-v1
VERSION:2.0
METHOD:PUBLISH
BEGIN:VTIMEZONE
TZID:Pacific/Midway
X-LIC-LOCATION:Pacific/Midway
BEGIN:STANDARD
TZOFFSETFROM:-1100
TZOFFSETTO:-1100
TZNAME:SST
DTSTART:19700101T000000
END:STANDARD
END:VTIMEZONE
BEGIN:VEVENT
UID:5072275:Event:1121243
DTSTAMP:20260421T014247Z
SUMMARY:Cruise In – Mableton, Ga
DESCRIPTION:McDonald's\n\nFor more information visit https://www.south
 eastwheelsevents.com/events/cruise-in-mableton-ga-2
DTSTART;TZID=Pacific/Midway:20190125T180000
DTEND;TZID=Pacific/Midway:20190125T210000
CATEGORIES:car, show, cruise-in
LOCATION:McDonald's,
WEBSITE:https://www.google.co.in/maps/place/McDonald&amp;amp;amp;amp;a
 mp;amp;amp;amp;#039;s/@33.8356134,-84.5790162,17z/data=!3m1!4b1!4m5!3m
 4!1s0x88f518385a282dd5:0x56f887edbc85f654!8m2!3d33.8356134!4d-84.57682
 75
URL:https://www.google.co.in/maps/place/McDonald&amp;amp;amp;amp;amp;a
 mp;amp;amp;#039;s/@33.8356134,-84.5790162,17z/data=!3m1!4b1!4m5!3m4!1s
 0x88f518385a282dd5:0x56f887edbc85f654!8m2!3d33.8356134!4d-84.5768275
CONTACT:770-944-4853
ORGANIZER:
ATTACH;FMTTYPE="image/jpeg":http://storage.ning.com/topology/rest/1.0/
 file/get/967787823?profile=original
ATTENDEE;ROLE=REQ-PARTICIPANT;PARTSTAT=ACCEPTED;RSVP=TRUE;CN="Anthony 
 Hopkins":https://www.southeastwheelsevents.com/profile/AnthonyHopkins
END:VEVENT
END:VCALENDAR
