BEGIN:VCALENDAR
PRODID:NingEventWidget-v1
VERSION:2.0
METHOD:PUBLISH
BEGIN:VTIMEZONE
TZID:Pacific/Midway
X-LIC-LOCATION:Pacific/Midway
BEGIN:STANDARD
TZOFFSETFROM:-1100
TZOFFSETTO:-1100
TZNAME:SST
DTSTART:19700101T000000
END:STANDARD
END:VTIMEZONE
BEGIN:VEVENT
UID:5072275:Event:1095133
DTSTAMP:20260420T055512Z
SUMMARY:Cruise In - Madisonville, Tn
DESCRIPTION:Bert's Hometown Grill, 902 Tellico Street\n\nFor more info
 rmation visit https://www.southeastwheelsevents.com/events/cruise-in-m
 adisonville-tn-1
DTSTART;TZID=Pacific/Midway:20180922T180000
DTEND;TZID=Pacific/Midway:20180922T210000
CATEGORIES:car, show, cruise, in
LOCATION:Bert's Hometown Grill,
WEBSITE:http://southeastwheelsevents.ning.com/events/event/new?cancelT
 arget=http%3A%2F%2Fsoutheastwheelsevents.ning.com%2Fevents%2Fcruise-in
 -kings-mountain-nc-6
URL:http://southeastwheelsevents.ning.com/events/event/new?cancelTarge
 t=http%3A%2F%2Fsoutheastwheelsevents.ning.com%2Fevents%2Fcruise-in-kin
 gs-mountain-nc-6
CONTACT:(423) 920-4262, (423) 371-2217
ORGANIZER:Joe, Richard
ATTACH;FMTTYPE="image/jpeg":http://storage.ning.com/topology/rest/1.0/
 file/get/967791746?profile=original
ATTENDEE;ROLE=REQ-PARTICIPANT;PARTSTAT=ACCEPTED;RSVP=TRUE;CN="Anthony 
 Hopkins":https://www.southeastwheelsevents.com/profile/AnthonyHopkins
END:VEVENT
END:VCALENDAR
