BEGIN:VCALENDAR
PRODID:NingEventWidget-v1
VERSION:2.0
METHOD:PUBLISH
BEGIN:VTIMEZONE
TZID:Pacific/Midway
X-LIC-LOCATION:Pacific/Midway
BEGIN:STANDARD
TZOFFSETFROM:-1100
TZOFFSETTO:-1100
TZNAME:SST
DTSTART:19700101T000000
END:STANDARD
END:VTIMEZONE
BEGIN:VEVENT
UID:5072275:Event:1178898
DTSTAMP:20260423T020930Z
SUMMARY:Cruise In Night - Daphne, AL
DESCRIPTION:Eastern Shore Cruisers is a group of individuals that getÂ
   together for the love of all things automotive.Â  First and foremost
 ,Â WE ARE NOT A CLUB.Â  Anyone that has an interest and passion for ca
 rs, bikes or trucks (either new or old) are welcome.Â \r\nâ€‹\r\nWe me
 et the second Saturday of every month, January through November from 5
 p - 8p, at Five Guys Restaurant at Jubilee Square in Daphne, AL.Â \r\n
 â€‹\r\nBring your ride and/or enthusiasm and join us for an evening of
  fun and fellowship.\n\nFor more information visit https://www.southea
 stwheelsevents.com/events/cruise-in-night-daphne-al
DTSTART;TZID=Pacific/Midway:20180922T110000
DTEND;TZID=Pacific/Midway:20180922T150000
CATEGORIES:car, show, cruise, in
LOCATION:Five Guys Restaurant
WEBSITE:http://www.Easternshorecruisers.com
URL:http://www.Easternshorecruisers.com
CONTACT:Fred Minke 251-709-5900
ORGANIZER:Eastern Shore Crusiers
ATTACH;FMTTYPE="image/jpeg":http://storage.ning.com/topology/rest/1.0/
 file/get/967791826?profile=original
ATTENDEE;ROLE=REQ-PARTICIPANT;PARTSTAT=ACCEPTED;RSVP=TRUE;CN="Chuck Aa
 ron":https://www.southeastwheelsevents.com/profile/ChuckAaron886
END:VEVENT
END:VCALENDAR
