BEGIN:VCALENDAR
PRODID:NingEventWidget-v1
VERSION:2.0
METHOD:PUBLISH
BEGIN:VTIMEZONE
TZID:Pacific/Midway
X-LIC-LOCATION:Pacific/Midway
BEGIN:STANDARD
TZOFFSETFROM:-1100
TZOFFSETTO:-1100
TZNAME:SST
DTSTART:19700101T000000
END:STANDARD
END:VTIMEZONE
BEGIN:VEVENT
UID:5072275:Event:1121860
DTSTAMP:20260424T045219Z
SUMMARY:Cruise In - North Augusta, Sc
DESCRIPTION:SNO-CAP Drive-In, 618 West Avenue.\n\nFor more information
  visit https://www.southeastwheelsevents.com/events/cruise-in-north-au
 gusta-sc-9
DTSTART;TZID=Pacific/Midway:20190330T180000
DTEND;TZID=Pacific/Midway:20190330T210000
CATEGORIES:car, show, cruise, in
LOCATION:SNO-CAP Drive-In,
WEBSITE:https://www.google.com/maps/place/Sno-Cap+Drive+in/@33.4967875
 ,-81.9739377,17z/data=!3m1!4b1!4m5!3m4!1s0x88f9cc8b8f2c24d5:0xcb2b53ab
 e9314542!8m2!3d33.496783!4d-81.971749
URL:https://www.google.com/maps/place/Sno-Cap+Drive+in/@33.4967875,-81
 .9739377,17z/data=!3m1!4b1!4m5!3m4!1s0x88f9cc8b8f2c24d5:0xcb2b53abe931
 4542!8m2!3d33.496783!4d-81.971749
CONTACT:(803) 279-4004
ORGANIZER:Rachel Franklin
ATTACH;FMTTYPE="image/jpeg":http://storage.ning.com/topology/rest/1.0/
 file/get/967791547?profile=original
ATTENDEE;ROLE=REQ-PARTICIPANT;PARTSTAT=ACCEPTED;RSVP=TRUE;CN="Anthony 
 Hopkins":https://www.southeastwheelsevents.com/profile/AnthonyHopkins
END:VEVENT
END:VCALENDAR
