BEGIN:VCALENDAR
PRODID:NingEventWidget-v1
VERSION:2.0
METHOD:PUBLISH
BEGIN:VTIMEZONE
TZID:Pacific/Midway
X-LIC-LOCATION:Pacific/Midway
BEGIN:STANDARD
TZOFFSETFROM:-1100
TZOFFSETTO:-1100
TZNAME:SST
DTSTART:19700101T000000
END:STANDARD
END:VTIMEZONE
BEGIN:VEVENT
UID:5072275:Event:16471
DTSTAMP:20260422T145831Z
SUMMARY:Cruise In On Square -Greenwood, SC
DESCRIPTION:Cruise In On Square -Greenwood,SC Info Wade 864-992-9576\n
 \nFor more information visit https://www.southeastwheelsevents.com/eve
 nts/cruise-in-on-square-greenwood
DTSTART;TZID=Pacific/Midway:20120519T170000
DTEND;TZID=Pacific/Midway:20120519T200000
CATEGORIES:cruise-in
LOCATION:The Square
WEBSITE:
URL:
CONTACT:Wade 864-992-9576
ORGANIZER:Wayne & Wade
ATTACH;FMTTYPE="image/jpeg":
ATTENDEE;ROLE=REQ-PARTICIPANT;PARTSTAT=ACCEPTED;RSVP=TRUE;CN="Michael 
 Thies":https://www.southeastwheelsevents.com/profile/MichaelThies
END:VEVENT
END:VCALENDAR
