BEGIN:VCALENDAR
PRODID:NingEventWidget-v1
VERSION:2.0
METHOD:PUBLISH
BEGIN:VTIMEZONE
TZID:Pacific/Midway
X-LIC-LOCATION:Pacific/Midway
BEGIN:STANDARD
TZOFFSETFROM:-1100
TZOFFSETTO:-1100
TZNAME:SST
DTSTART:19700101T000000
END:STANDARD
END:VTIMEZONE
BEGIN:VEVENT
UID:5072275:Event:82617
DTSTAMP:20260420T063929Z
SUMMARY:Cruise in on the Square Blairsville GA.
DESCRIPTION:Blairsville Cruise-In on the Square\nSaturday, Oct 2 1:00p
 \nBlairsville Town Square, Blairsville, GA\n\n1st Saturday Cruise-Ins 
 on the Square are a great way to show off your special ride! 2010 is t
 he 4th season (April thru October) that Blairsville Cruisers hold even
 ts in Downtown Blairsville. Crowds of car, truck, and motorcycle enthu
 siasts are drawn to see and/or display classic and antique vehicles. r
 ead more\n\nFor more information visit https://www.southeastwheelseven
 ts.com/events/cruise-in-on-the-square-1
DTSTART;TZID=Pacific/Midway:20101002T130000
DTEND;TZID=Pacific/Midway:20101002T170000
CATEGORIES:cruise
LOCATION:The Square Blairsville GA.
WEBSITE:http://www.blairsvillecruisers.com/
URL:http://www.blairsvillecruisers.com/
CONTACT:(706) 994-4837
ORGANIZER:Blairsville Cruise
ATTACH;FMTTYPE="image/jpeg":http://storage.ning.com/topology/rest/1.0/
 file/get/967584679?profile=original
ATTENDEE;ROLE=REQ-PARTICIPANT;PARTSTAT=ACCEPTED;RSVP=TRUE;CN="Doctor S
 tig":https://www.southeastwheelsevents.com/profile/DoctorStig
END:VEVENT
END:VCALENDAR
