BEGIN:VCALENDAR
PRODID:NingEventWidget-v1
VERSION:2.0
METHOD:PUBLISH
BEGIN:VTIMEZONE
TZID:Pacific/Midway
X-LIC-LOCATION:Pacific/Midway
BEGIN:STANDARD
TZOFFSETFROM:-1100
TZOFFSETTO:-1100
TZNAME:SST
DTSTART:19700101T000000
END:STANDARD
END:VTIMEZONE
BEGIN:VEVENT
UID:5072275:Event:1119916
DTSTAMP:20260422T133056Z
SUMMARY:Cruise In - Ooltewah,Tn
DESCRIPTION:7704 Sonic Drive In\n\nFor more information visit https://
 www.southeastwheelsevents.com/events/cruise-in-ooltewah-tn-18
DTSTART;TZID=Pacific/Midway:20190415T180000
DTEND;TZID=Pacific/Midway:20190415T210000
CATEGORIES:car, show
LOCATION:7704 Sonic Drive In,
WEBSITE:https://www.google.co.in/maps/place/Sonic+Drive-In/@35.0818012
 ,-85.0615531,17z/data=!3m1!4b1!4m5!3m4!1s0x88607daf50e3968d:0x3cb9ffe9
 b20bcce3!8m2!3d35.0818012!4d-85.0593644
URL:https://www.google.co.in/maps/place/Sonic+Drive-In/@35.0818012,-85
 .0615531,17z/data=!3m1!4b1!4m5!3m4!1s0x88607daf50e3968d:0x3cb9ffe9b20b
 cce3!8m2!3d35.0818012!4d-85.0593644
CONTACT:(423) 488-6785
ORGANIZER:Johnny Arp
ATTACH;FMTTYPE="image/jpeg":http://storage.ning.com/topology/rest/1.0/
 file/get/967778656?profile=original
ATTENDEE;ROLE=REQ-PARTICIPANT;PARTSTAT=ACCEPTED;RSVP=TRUE;CN="Anthony 
 Hopkins":https://www.southeastwheelsevents.com/profile/AnthonyHopkins
END:VEVENT
END:VCALENDAR
