BEGIN:VCALENDAR
PRODID:NingEventWidget-v1
VERSION:2.0
METHOD:PUBLISH
BEGIN:VTIMEZONE
TZID:Pacific/Midway
X-LIC-LOCATION:Pacific/Midway
BEGIN:STANDARD
TZOFFSETFROM:-1100
TZOFFSETTO:-1100
TZNAME:SST
DTSTART:19700101T000000
END:STANDARD
END:VTIMEZONE
BEGIN:VEVENT
UID:5072275:Event:1182274
DTSTAMP:20260420T004059Z
SUMMARY:Cruise In - Orlando, Fl
DESCRIPTION:Each month on the first Wednesday. Join the Mid Florida Mu
 stang Club for their social supper, don't need to be a part to visit. 
 Party time 4-7pm. Ace Cafe is THE spot for everything car, bikes and j
 ammin. With a full-administration café, art gallery and unrecorded mu
 sic; there's something for everybody. Additionally it is hound neighbo
 rly.\nRegistration Fee: Free\n\n\nFor more information visit https://
 www.southeastwheelsevents.com/events/cruise-in-orlando-fl-2
DTSTART;TZID=Pacific/Midway:20200101T180000
DTEND;TZID=Pacific/Midway:20200101T210000
CATEGORIES:car, show, cruise-in
LOCATION:Ace Cafe,
WEBSITE:http://www.acecafeusa.com/
URL:http://www.acecafeusa.com/
CONTACT:(407) 996-6686; alee@acecafeusa.com
ORGANIZER:
ATTACH;FMTTYPE="image/jpeg":https://storage.ning.com/topology/rest/1.0
 /file/get/3744411323?profile=original
ATTENDEE;ROLE=REQ-PARTICIPANT;PARTSTAT=ACCEPTED;RSVP=TRUE;CN="Anthony 
 Hopkins":https://www.southeastwheelsevents.com/profile/AnthonyHopkins
END:VEVENT
END:VCALENDAR
