BEGIN:VCALENDAR
PRODID:NingEventWidget-v1
VERSION:2.0
METHOD:PUBLISH
BEGIN:VTIMEZONE
TZID:Pacific/Midway
X-LIC-LOCATION:Pacific/Midway
BEGIN:STANDARD
TZOFFSETFROM:-1100
TZOFFSETTO:-1100
TZNAME:SST
DTSTART:19700101T000000
END:STANDARD
END:VTIMEZONE
BEGIN:VEVENT
UID:5072275:Event:1115218
DTSTAMP:20260420T105651Z
SUMMARY:Cruise In - Pell City, Al
DESCRIPTION:Jack's Hamburgers, Hwy 231\n\nFor more information visit h
 ttps://www.southeastwheelsevents.com/events/cruise-in-pell-city-al-14
DTSTART;TZID=Pacific/Midway:20190302T180000
DTEND;TZID=Pacific/Midway:20190302T210000
CATEGORIES:car, show, cruise-in
LOCATION:Jack's Hamburgers,
WEBSITE:https://www.google.co.in/maps/place/Jack&amp;amp;amp;amp;amp;a
 mp;amp;amp;amp;amp;amp;amp;#039;s/@33.5974317,-86.2855831,17z/data=!3m
 1!4b1!4m5!3m4!1s0x88897da13a800ce1:0xd7ab155f1fc7a450!8m2!3d33.5974317
 !4d-86.2833944
URL:https://www.google.co.in/maps/place/Jack&amp;amp;amp;amp;amp;amp;a
 mp;amp;amp;amp;amp;amp;#039;s/@33.5974317,-86.2855831,17z/data=!3m1!4b
 1!4m5!3m4!1s0x88897da13a800ce1:0xd7ab155f1fc7a450!8m2!3d33.5974317!4d-
 86.2833944
CONTACT:(205) 365-955
ORGANIZER:Duncan
ATTACH;FMTTYPE="image/jpeg":http://storage.ning.com/topology/rest/1.0/
 file/get/967786629?profile=original
ATTENDEE;ROLE=REQ-PARTICIPANT;PARTSTAT=ACCEPTED;RSVP=TRUE;CN="Anthony 
 Hopkins":https://www.southeastwheelsevents.com/profile/AnthonyHopkins
END:VEVENT
END:VCALENDAR
