BEGIN:VCALENDAR
PRODID:NingEventWidget-v1
VERSION:2.0
METHOD:PUBLISH
BEGIN:VTIMEZONE
TZID:Pacific/Midway
X-LIC-LOCATION:Pacific/Midway
BEGIN:STANDARD
TZOFFSETFROM:-1100
TZOFFSETTO:-1100
TZNAME:SST
DTSTART:19700101T000000
END:STANDARD
END:VTIMEZONE
BEGIN:VEVENT
UID:5072275:Event:1178489
DTSTAMP:20260420T141520Z
SUMMARY:Cruise In - Pensacola, Fl
DESCRIPTION:Cruise In - Pensacola, Fl, Nine Mile Plaza at E. Nine Mile
  Rd.\n\nFor more information visit https://www.southeastwheelsevents.c
 om/events/cruise-in-pensacola-fl-336
DTSTART;TZID=Pacific/Midway:20191026T180000
DTEND;TZID=Pacific/Midway:20191026T210000
CATEGORIES:car, show
LOCATION:Nine Mile Plaza,
WEBSITE:http://panhandlecruisers.com
URL:http://panhandlecruisers.com
CONTACT:(251) 946-3327
ORGANIZER:Warren Peacock
ATTACH;FMTTYPE="image/jpeg":http://storage.ning.com/topology/rest/1.0/
 file/get/967781644?profile=original
ATTENDEE;ROLE=REQ-PARTICIPANT;PARTSTAT=ACCEPTED;RSVP=TRUE;CN="Chuck Aa
 ron":https://www.southeastwheelsevents.com/profile/ChuckAaron886
END:VEVENT
END:VCALENDAR
