BEGIN:VCALENDAR
PRODID:NingEventWidget-v1
VERSION:2.0
METHOD:PUBLISH
BEGIN:VTIMEZONE
TZID:Pacific/Midway
X-LIC-LOCATION:Pacific/Midway
BEGIN:STANDARD
TZOFFSETFROM:-1100
TZOFFSETTO:-1100
TZNAME:SST
DTSTART:19700101T000000
END:STANDARD
END:VTIMEZONE
BEGIN:VEVENT
UID:5072275:Event:1123279
DTSTAMP:20260424T041525Z
SUMMARY:Cruise In – Powder Springs, Ga
DESCRIPTION:Zaxby's, 4410 Brownsville Road\n\nFor more information vis
 it https://www.southeastwheelsevents.com/events/cruise-in-powder-sprin
 gs-ga-904
DTSTART;TZID=Pacific/Midway:20190621T180000
DTEND;TZID=Pacific/Midway:20190621T210000
CATEGORIES:car, show, cruise, in
LOCATION:Zaxby's,
WEBSITE:https://www.google.co.in/maps/place/Zaxby&amp;amp;amp;amp;amp;
 #039;s+Chicken+Fingers+%26+Buffalo+Wings/@33.845108,-84.7010267,17z/da
 ta=!3m1!4b1!4m5!3m4!1s0x88f524a498578459:0x85593ef7606fbfd7!8m2!3d33.8
 45108!4d-84.698838
URL:https://www.google.co.in/maps/place/Zaxby&amp;amp;amp;amp;amp;#039
 ;s+Chicken+Fingers+%26+Buffalo+Wings/@33.845108,-84.7010267,17z/data=!
 3m1!4b1!4m5!3m4!1s0x88f524a498578459:0x85593ef7606fbfd7!8m2!3d33.84510
 8!4d-84.698838
CONTACT:(770) 943-2634
ORGANIZER:Harold Johnson
ATTACH;FMTTYPE="image/jpeg":http://storage.ning.com/topology/rest/1.0/
 file/get/967789380?profile=original
ATTENDEE;ROLE=REQ-PARTICIPANT;PARTSTAT=ACCEPTED;RSVP=TRUE;CN="Anthony 
 Hopkins":https://www.southeastwheelsevents.com/profile/AnthonyHopkins
END:VEVENT
END:VCALENDAR
