BEGIN:VCALENDAR
PRODID:NingEventWidget-v1
VERSION:2.0
METHOD:PUBLISH
BEGIN:VTIMEZONE
TZID:Pacific/Midway
X-LIC-LOCATION:Pacific/Midway
BEGIN:STANDARD
TZOFFSETFROM:-1100
TZOFFSETTO:-1100
TZNAME:SST
DTSTART:19700101T000000
END:STANDARD
END:VTIMEZONE
BEGIN:VEVENT
UID:5072275:Event:1180604
DTSTAMP:20260419T123710Z
SUMMARY:Cruise In - Raleigh, Nc
DESCRIPTION:New Year's Day Cruise In at Raleigh. This event would was 
 formely known as the annual Grill 57 New Years' Day Cruise In, Garner
 , N.C.\n\nFor more information visit https://www.southeastwheelsevents
 .com/events/cruise-in-raleigh-n-c
DTSTART;TZID=Pacific/Midway:20200101T100000
DTEND;TZID=Pacific/Midway:20200101T160000
CATEGORIES:car, show, cruise-in
LOCATION:The D and S Cafeteria parking lot,
WEBSITE:https://www.google.com/maps/place/D%26S+Cafeteria/@35.7676313,
 -78.7407497,17z/data=!4m8!1m2!2m1!1sThe+D+and+S+Cafeteria+parking+lot,
 !3m4!1s0x89acf48495fd366f:0x8088210dbca70fb5!8m2!3d35.767627!4d-78.738
 561
URL:https://www.google.com/maps/place/D%26S+Cafeteria/@35.7676313,-78.
 7407497,17z/data=!4m8!1m2!2m1!1sThe+D+and+S+Cafeteria+parking+lot,!3m4
 !1s0x89acf48495fd366f:0x8088210dbca70fb5!8m2!3d35.767627!4d-78.738561
CONTACT:9194628404
ORGANIZER:Sylvester Smith
ATTACH;FMTTYPE="image/jpeg":https://storage.ning.com/topology/rest/1.0
 /file/get/3700610024?profile=original
ATTENDEE;ROLE=REQ-PARTICIPANT;PARTSTAT=ACCEPTED;RSVP=TRUE;CN="Anthony 
 Hopkins":https://www.southeastwheelsevents.com/profile/AnthonyHopkins
END:VEVENT
END:VCALENDAR
