BEGIN:VCALENDAR
PRODID:NingEventWidget-v1
VERSION:2.0
METHOD:PUBLISH
BEGIN:VTIMEZONE
TZID:Pacific/Midway
X-LIC-LOCATION:Pacific/Midway
BEGIN:STANDARD
TZOFFSETFROM:-1100
TZOFFSETTO:-1100
TZNAME:SST
DTSTART:19700101T000000
END:STANDARD
END:VTIMEZONE
BEGIN:VEVENT
UID:5072275:Event:1185944
DTSTAMP:20260419T081407Z
SUMMARY:Cruise In - Sarasota, Fl
DESCRIPTION:This show is organized each month on the Third Sunday at C
 ulvers.\nThere will be no shows in June, July, and August.\n\nFor more
  information visit https://www.southeastwheelsevents.com/events/cruise
 -in-sarasota-fl-5
DTSTART;TZID=Pacific/Midway:20200216T110000
DTEND;TZID=Pacific/Midway:20200216T140000
CATEGORIES:car, show, cruise-in
LOCATION:Culver's,
WEBSITE:https://www.google.com/maps/place/Culver&amp;amp;amp;amp;#039;
 s/@27.251418,-82.5159941,17z/data=!4m8!1m2!2m1!1sVenue:+Culver&amp;amp
 ;amp;amp;#039;s+Address:+7250+S.+Tamiami+Trail,+Sarasota,+Florida!3m4!
 1s0x88c343d4099d72eb:0xa32ae945c3fcda49!8m2!3d27.2496514!4d-82.514081
URL:https://www.google.com/maps/place/Culver&amp;amp;amp;amp;#039;s/@2
 7.251418,-82.5159941,17z/data=!4m8!1m2!2m1!1sVenue:+Culver&amp;amp;amp
 ;amp;#039;s+Address:+7250+S.+Tamiami+Trail,+Sarasota,+Florida!3m4!1s0x
 88c343d4099d72eb:0xa32ae945c3fcda49!8m2!3d27.2496514!4d-82.514081
CONTACT:(941) 822-1631; cadillacjimmy65@hotmail.com
ORGANIZER:
ATTACH;FMTTYPE="image/jpeg":https://storage.ning.com/topology/rest/1.0
 /file/get/832717614?profile=original
ATTENDEE;ROLE=REQ-PARTICIPANT;PARTSTAT=ACCEPTED;RSVP=TRUE;CN="Anthony 
 Hopkins":https://www.southeastwheelsevents.com/profile/AnthonyHopkins
END:VEVENT
END:VCALENDAR
