BEGIN:VCALENDAR
PRODID:NingEventWidget-v1
VERSION:2.0
METHOD:PUBLISH
BEGIN:VTIMEZONE
TZID:Pacific/Midway
X-LIC-LOCATION:Pacific/Midway
BEGIN:STANDARD
TZOFFSETFROM:-1100
TZOFFSETTO:-1100
TZNAME:SST
DTSTART:19700101T000000
END:STANDARD
END:VTIMEZONE
BEGIN:VEVENT
UID:5072275:Event:1117157
DTSTAMP:20260423T143003Z
SUMMARY:Cruise In – Social Circle, Ga
DESCRIPTION:Hot Rod's Diner, 208 Village Circle\n\nFor more informatio
 n visit https://www.southeastwheelsevents.com/events/cruise-in-social-
 circle-ga-8
DTSTART;TZID=Pacific/Midway:20190316T180000
DTEND;TZID=Pacific/Midway:20190316T210000
CATEGORIES:car, show, cruise, in
LOCATION:Hot Rod's Diner,
WEBSITE:https://www.google.com/maps/place/Hot+Rods+Diner/@33.6583095,-
 83.7173344,17z/data=!3m1!4b1!4m5!3m4!1s0x88f5d321f1c1494f:0x40673a953d
 82322c!8m2!3d33.6583095!4d-83.7151457
URL:https://www.google.com/maps/place/Hot+Rods+Diner/@33.6583095,-83.7
 173344,17z/data=!3m1!4b1!4m5!3m4!1s0x88f5d321f1c1494f:0x40673a953d8232
 2c!8m2!3d33.6583095!4d-83.7151457
CONTACT:(678) 725-7527
ORGANIZER:Greg Cavender
ATTACH;FMTTYPE="image/jpeg":http://storage.ning.com/topology/rest/1.0/
 file/get/967791294?profile=original
ATTENDEE;ROLE=REQ-PARTICIPANT;PARTSTAT=ACCEPTED;RSVP=TRUE;CN="Anthony 
 Hopkins":https://www.southeastwheelsevents.com/profile/AnthonyHopkins
END:VEVENT
END:VCALENDAR
