BEGIN:VCALENDAR
PRODID:NingEventWidget-v1
VERSION:2.0
METHOD:PUBLISH
BEGIN:VTIMEZONE
TZID:Pacific/Midway
X-LIC-LOCATION:Pacific/Midway
BEGIN:STANDARD
TZOFFSETFROM:-1100
TZOFFSETTO:-1100
TZNAME:SST
DTSTART:19700101T000000
END:STANDARD
END:VTIMEZONE
BEGIN:VEVENT
UID:5072275:Event:1097179
DTSTAMP:20260421T125720Z
SUMMARY:Cruise In Sponsored by Papa Jacks, Braselton, GA
DESCRIPTION:Cruise In at Papa Jacks Restaurant! BBQ Lunch provided to 
 all Cruise In participants, games for kids, specials by local business
  owners, fun fall event!\n\nFor more information visit https://www.sou
 theastwheelsevents.com/events/cruise-in-sponsored-by-papa-jacks-brasel
 ton-ga
DTSTART;TZID=Pacific/Midway:20180922T110000
DTEND;TZID=Pacific/Midway:20180922T160000
CATEGORIES:community, "business/family", fest
LOCATION:Papa Jacks Restaurant Parking Lot
WEBSITE:
URL:
CONTACT:678-866-4142
ORGANIZER;CN="Sam Wilson":https://www.southeastwheelsevents.com/profil
 e/SamWilson
ATTACH;FMTTYPE="image/jpeg":http://storage.ning.com/topology/rest/1.0/
 file/get/967793582?profile=original
ATTENDEE;ROLE=REQ-PARTICIPANT;PARTSTAT=ACCEPTED;RSVP=TRUE;CN="Sam Wils
 on":https://www.southeastwheelsevents.com/profile/SamWilson
END:VEVENT
END:VCALENDAR
