BEGIN:VCALENDAR
PRODID:NingEventWidget-v1
VERSION:2.0
METHOD:PUBLISH
BEGIN:VTIMEZONE
TZID:Pacific/Midway
X-LIC-LOCATION:Pacific/Midway
BEGIN:STANDARD
TZOFFSETFROM:-1100
TZOFFSETTO:-1100
TZNAME:SST
DTSTART:19700101T000000
END:STANDARD
END:VTIMEZONE
BEGIN:VEVENT
UID:5072275:Event:530998
DTSTAMP:20260421T031833Z
SUMMARY:Poor Boys' CRUISE IN /SWAP MEET -Huntsville, AL
DESCRIPTION:\n\nFor more information visit https://www.southeastwheels
 events.com/events/cruise-in-swap-meet-t
DTSTART;TZID=Pacific/Midway:20120721T000000
DTEND;TZID=Pacific/Midway:20120721T235900
CATEGORIES:cruise, in, "/", swap, meet
LOCATION:JEFF'S MUFFLER AND BRAKES
WEBSITE:http://maps.google.com/maps?q=11110+South+Memorial+Parkway,+Hu
 ntsville,+AL&hl=en&ll=34.626057,-86.567405&spn=0.002688,0.004823&sll=3
 4.735194,-86.599495&sspn=0.010739,0.01929&oq=11110+South+Memorial+Park
 way,+Huntsville,+AL&hnear=11110+Memorial+Pkwy+SW,+Huntsville,+Alabama+
 35803&t=h&z=18
URL:http://maps.google.com/maps?q=11110+South+Memorial+Parkway,+Huntsv
 ille,+AL&hl=en&ll=34.626057,-86.567405&spn=0.002688,0.004823&sll=34.73
 5194,-86.599495&sspn=0.010739,0.01929&oq=11110+South+Memorial+Parkway,
 +Huntsville,+AL&hnear=11110+Memorial+Pkwy+SW,+Huntsville,+Alabama+3580
 3&t=h&z=18
CONTACT:256-270-7869
ORGANIZER;CN="Poor Boys C.C. Alabama":https://www.southeastwheelsevent
 s.com/profile/PoorBoysCCAlabama
ATTACH;FMTTYPE="image/jpeg":http://storage.ning.com/topology/rest/1.0/
 file/get/967618545?profile=original
ATTENDEE;ROLE=REQ-PARTICIPANT;PARTSTAT=ACCEPTED;RSVP=TRUE;CN="Poor Boy
 s C.C. Alabama":https://www.southeastwheelsevents.com/profile/PoorBoys
 CCAlabama
END:VEVENT
END:VCALENDAR
