BEGIN:VCALENDAR
PRODID:NingEventWidget-v1
VERSION:2.0
METHOD:PUBLISH
BEGIN:VTIMEZONE
TZID:Pacific/Midway
X-LIC-LOCATION:Pacific/Midway
BEGIN:STANDARD
TZOFFSETFROM:-1100
TZOFFSETTO:-1100
TZNAME:SST
DTSTART:19700101T000000
END:STANDARD
END:VTIMEZONE
BEGIN:VEVENT
UID:5072275:Event:1120552
DTSTAMP:20260423T121524Z
SUMMARY:Cruise In - Sweetwater, Tn
DESCRIPTION:The Depot Downtown.\n\nFor more information visit https://
 www.southeastwheelsevents.com/events/cruise-in-sweetwater-tn-2
DTSTART;TZID=Pacific/Midway:20190201T180000
DTEND;TZID=Pacific/Midway:20190201T210000
CATEGORIES:car, show, cruise, in
LOCATION:Sweetwater, Tn
WEBSITE:https://www.google.co.in/maps/place/Sweetwater+Visitor&amp;amp
 ;#039;s+Center+%26+Depot/@35.5994006,-84.4637379,17z/data=!3m1!4b1!4m5
 !3m4!1s0x885e6fc251f9ef13:0x2b3cf7f4a790a735!8m2!3d35.5994006!4d-84.46
 15492
URL:https://www.google.co.in/maps/place/Sweetwater+Visitor&amp;amp;#03
 9;s+Center+%26+Depot/@35.5994006,-84.4637379,17z/data=!3m1!4b1!4m5!3m4
 !1s0x885e6fc251f9ef13:0x2b3cf7f4a790a735!8m2!3d35.5994006!4d-84.461549
 2
CONTACT:423-836-0810; 865-209-6046
ORGANIZER:Pete, Charlie
ATTACH;FMTTYPE="image/jpeg":http://storage.ning.com/topology/rest/1.0/
 file/get/967804533?profile=original
ATTENDEE;ROLE=REQ-PARTICIPANT;PARTSTAT=ACCEPTED;RSVP=TRUE;CN="Anthony 
 Hopkins":https://www.southeastwheelsevents.com/profile/AnthonyHopkins
END:VEVENT
END:VCALENDAR
