BEGIN:VCALENDAR
PRODID:NingEventWidget-v1
VERSION:2.0
METHOD:PUBLISH
BEGIN:VTIMEZONE
TZID:Pacific/Midway
X-LIC-LOCATION:Pacific/Midway
BEGIN:STANDARD
TZOFFSETFROM:-1100
TZOFFSETTO:-1100
TZNAME:SST
DTSTART:19700101T000000
END:STANDARD
END:VTIMEZONE
BEGIN:VEVENT
UID:5072275:Event:1180869
DTSTAMP:20260419T204311Z
SUMMARY:Cruise-In - Tavares, Fl
DESCRIPTION:The show is open to all makes and models, and includes DJ 
 music by WLBY Cool Classics.  \nLarge lighted parking lot, door priz
 es, 50/50 drawing and one lucky cruiser will receive a free meal.\n10%
  off to all participating cruisers. \nLook for the giant ice cream co
 ne. \nOld fashion meals at an old fashion price.\nEvery month on the 
 first Wednesday. \n\nFor more information visit https://www.southeast
 wheelsevents.com/events/cruise-in-tavares-fl-1
DTSTART;TZID=Pacific/Midway:20200101T173000
DTEND;TZID=Pacific/Midway:20200101T200000
CATEGORIES:car, show, cruise-in
LOCATION:Hwy 441,
WEBSITE:https://www.google.com/maps/place/Hwy+441+Diner/@28.8177313,-8
 1.728074,17z/data=!4m8!1m2!2m1!1sHwy+441+Diner+Annual+Cruise-In!3m4!1s
 0x88e7bd0d0f006a41:0x7aadd32e27a42147!8m2!3d28.8177313!4d-81.7258853
URL:https://www.google.com/maps/place/Hwy+441+Diner/@28.8177313,-81.72
 8074,17z/data=!4m8!1m2!2m1!1sHwy+441+Diner+Annual+Cruise-In!3m4!1s0x88
 e7bd0d0f006a41:0x7aadd32e27a42147!8m2!3d28.8177313!4d-81.7258853
CONTACT:407-393-8544 0r 352-508-5494
ORGANIZER:Robert Yost
ATTACH;FMTTYPE="image/jpeg":https://storage.ning.com/topology/rest/1.0
 /file/get/3708338252?profile=original
ATTENDEE;ROLE=REQ-PARTICIPANT;PARTSTAT=ACCEPTED;RSVP=TRUE;CN="Anthony 
 Hopkins":https://www.southeastwheelsevents.com/profile/AnthonyHopkins
END:VEVENT
END:VCALENDAR
