BEGIN:VCALENDAR
PRODID:NingEventWidget-v1
VERSION:2.0
METHOD:PUBLISH
BEGIN:VTIMEZONE
TZID:Pacific/Midway
X-LIC-LOCATION:Pacific/Midway
BEGIN:STANDARD
TZOFFSETFROM:-1100
TZOFFSETTO:-1100
TZNAME:SST
DTSTART:19700101T000000
END:STANDARD
END:VTIMEZONE
BEGIN:VEVENT
UID:5072275:Event:1094964
DTSTAMP:20260421T061322Z
SUMMARY:Cruise In - Winder, Ga
DESCRIPTION:Old Publix at Winder Crossing\n\nFor more information visi
 t https://www.southeastwheelsevents.com/events/cruise-in-winder-ga-1
DTSTART;TZID=Pacific/Midway:20180922T180000
DTEND;TZID=Pacific/Midway:20180922T210000
CATEGORIES:car, show, cruise, in
LOCATION:Publix Super Market, Winder Corners Shopping Center
WEBSITE:https://www.google.com/maps/place/Publix+Super+Market+at+Winde
 r+Corners+Shopping+Center/@33.9813067,-83.715937,17z/data=!3m1!4b1!4m5
 !3m4!1s0x88f5dd9b2b669eeb:0x81e8da150815b088!8m2!3d33.9813067!4d-83.71
 37483
URL:https://www.google.com/maps/place/Publix+Super+Market+at+Winder+Co
 rners+Shopping+Center/@33.9813067,-83.715937,17z/data=!3m1!4b1!4m5!3m4
 !1s0x88f5dd9b2b669eeb:0x81e8da150815b088!8m2!3d33.9813067!4d-83.713748
 3
CONTACT:(404) 414-4060
ORGANIZER:Charles Morton
ATTACH;FMTTYPE="image/jpeg":http://storage.ning.com/topology/rest/1.0/
 file/get/967789566?profile=original
ATTENDEE;ROLE=REQ-PARTICIPANT;PARTSTAT=ACCEPTED;RSVP=TRUE;CN="Anthony 
 Hopkins":https://www.southeastwheelsevents.com/profile/AnthonyHopkins
END:VEVENT
END:VCALENDAR
