BEGIN:VCALENDAR
PRODID:NingEventWidget-v1
VERSION:2.0
METHOD:PUBLISH
BEGIN:VTIMEZONE
TZID:Pacific/Midway
X-LIC-LOCATION:Pacific/Midway
BEGIN:STANDARD
TZOFFSETFROM:-1100
TZOFFSETTO:-1100
TZNAME:SST
DTSTART:19700101T000000
END:STANDARD
END:VTIMEZONE
BEGIN:VEVENT
UID:5072275:Event:1106512
DTSTAMP:20260423T230829Z
SUMMARY:Cruise In - Yadkinville, Nc
DESCRIPTION:Shopping Center, Hwy 601 and 421.\n\nFor more information 
 visit https://www.southeastwheelsevents.com/events/cruise-in-yadkinvil
 le-nc-4
DTSTART;TZID=Pacific/Midway:20181215T180000
DTEND;TZID=Pacific/Midway:20181215T210000
CATEGORIES:car, show, cruise, in
LOCATION:Shopping Center,
WEBSITE:http://yadkinvalleycruisers.com
URL:http://yadkinvalleycruisers.com
CONTACT:336-971-4855
ORGANIZER:David Gobble
ATTACH;FMTTYPE="image/jpeg":http://storage.ning.com/topology/rest/1.0/
 file/get/967787813?profile=original
ATTENDEE;ROLE=REQ-PARTICIPANT;PARTSTAT=ACCEPTED;RSVP=TRUE;CN="Anthony 
 Hopkins":https://www.southeastwheelsevents.com/profile/AnthonyHopkins
END:VEVENT
END:VCALENDAR
