BEGIN:VCALENDAR
PRODID:NingEventWidget-v1
VERSION:2.0
METHOD:PUBLISH
BEGIN:VTIMEZONE
TZID:Pacific/Midway
X-LIC-LOCATION:Pacific/Midway
BEGIN:STANDARD
TZOFFSETFROM:-1100
TZOFFSETTO:-1100
TZNAME:SST
DTSTART:19700101T000000
END:STANDARD
END:VTIMEZONE
BEGIN:VEVENT
UID:5072275:Event:1092413
DTSTAMP:20260422T202628Z
SUMMARY:Cruise Nights - Athens, Tn
DESCRIPTION:Michael's Restaurant, Hwy 11\n\nFor more information visit
  https://www.southeastwheelsevents.com/events/cruise-nights-athens-tn
DTSTART;TZID=Pacific/Midway:20180721T180000
DTEND;TZID=Pacific/Midway:20180721T210000
CATEGORIES:car, show, cruise-in
LOCATION:Michael's Restaurant,
WEBSITE:https://www.google.co.in/maps/place/Michael&#039;s+Casual+Dini
 ng/@35.4115748,-84.6973347,11z/data=!4m8!1m2!2m1!1sMichael&#039;s+Rest
 aurant,+Hwy+11+ATHENS,+TN!3m4!1s0x885e3fdf1627e5c3:0x4ba265d3e49ad2b4!
 8m2!3d35.4788706!4d-84.5931281
URL:https://www.google.co.in/maps/place/Michael&#039;s+Casual+Dining/@
 35.4115748,-84.6973347,11z/data=!4m8!1m2!2m1!1sMichael&#039;s+Restaura
 nt,+Hwy+11+ATHENS,+TN!3m4!1s0x885e3fdf1627e5c3:0x4ba265d3e49ad2b4!8m2!
 3d35.4788706!4d-84.5931281
CONTACT:(423) 744-4835, (423) 453-5576
ORGANIZER:Danny Richesin, Loretta Swafford
ATTACH;FMTTYPE="image/jpeg":http://storage.ning.com/topology/rest/1.0/
 file/get/967785404?profile=original
ATTENDEE;ROLE=REQ-PARTICIPANT;PARTSTAT=ACCEPTED;RSVP=TRUE;CN="Anthony 
 Hopkins":https://www.southeastwheelsevents.com/profile/AnthonyHopkins
END:VEVENT
END:VCALENDAR
