BEGIN:VCALENDAR
PRODID:NingEventWidget-v1
VERSION:2.0
METHOD:PUBLISH
BEGIN:VTIMEZONE
TZID:Pacific/Midway
X-LIC-LOCATION:Pacific/Midway
BEGIN:STANDARD
TZOFFSETFROM:-1100
TZOFFSETTO:-1100
TZNAME:SST
DTSTART:19700101T000000
END:STANDARD
END:VTIMEZONE
BEGIN:VEVENT
UID:5072275:Event:1091879
DTSTAMP:20260420T171305Z
SUMMARY:Cruise Nights - Augusta, Ga
DESCRIPTION:Hooter's on Washington Road\n\nFor more information visit 
 https://www.southeastwheelsevents.com/events/cruise-nights-augusta-ga
DTSTART;TZID=Pacific/Midway:20180811T180000
DTEND;TZID=Pacific/Midway:20180811T210000
CATEGORIES:car, show, cruise-in
LOCATION:Hooter's,
WEBSITE:https://www.google.co.in/maps?q=Hooters+on+Washington+Road&amp
 ;amp;um=1&amp;amp;ie=UTF-8&amp;amp;sa=X&amp;amp;ved=0ahUKEwip0-Oso5rcA
 hVLQo8KHVHZA-4Q_AUICigB
URL:https://www.google.co.in/maps?q=Hooters+on+Washington+Road&amp;amp
 ;um=1&amp;amp;ie=UTF-8&amp;amp;sa=X&amp;amp;ved=0ahUKEwip0-Oso5rcAhVLQ
 o8KHVHZA-4Q_AUICigB
CONTACT:(706) 394-0444
ORGANIZER:Jan Holley
ATTACH;FMTTYPE="image/jpeg":http://storage.ning.com/topology/rest/1.0/
 file/get/967784120?profile=original
ATTENDEE;ROLE=REQ-PARTICIPANT;PARTSTAT=ACCEPTED;RSVP=TRUE;CN="Anthony 
 Hopkins":https://www.southeastwheelsevents.com/profile/AnthonyHopkins
END:VEVENT
END:VCALENDAR
