BEGIN:VCALENDAR
PRODID:NingEventWidget-v1
VERSION:2.0
METHOD:PUBLISH
BEGIN:VTIMEZONE
TZID:Pacific/Midway
X-LIC-LOCATION:Pacific/Midway
BEGIN:STANDARD
TZOFFSETFROM:-1100
TZOFFSETTO:-1100
TZNAME:SST
DTSTART:19700101T000000
END:STANDARD
END:VTIMEZONE
BEGIN:VEVENT
UID:5072275:Event:1106130
DTSTAMP:20260422T185742Z
SUMMARY:Cruise In - Bakersville, Nc
DESCRIPTION:City Drive In\n\nFor more information visit https://www.so
 utheastwheelsevents.com/events/cruise-nights-bakersville-nc-2
DTSTART;TZID=Pacific/Midway:20181110T180000
DTEND;TZID=Pacific/Midway:20181110T210000
CATEGORIES:car, show, cruise-in
LOCATION:City Drive In,
WEBSITE:https://www.google.co.in/maps/place/Capital+City+Dr,+Bakersvil
 le,+NC+28705,+USA/@36.019518,-82.156561,17z/data=!3m1!4b1!4m5!3m4!1s0x
 88509f68dba93cef:0x501ff296c196c6c2!8m2!3d36.0195137!4d-82.1543723
URL:https://www.google.co.in/maps/place/Capital+City+Dr,+Bakersville,+
 NC+28705,+USA/@36.019518,-82.156561,17z/data=!3m1!4b1!4m5!3m4!1s0x8850
 9f68dba93cef:0x501ff296c196c6c2!8m2!3d36.0195137!4d-82.1543723
CONTACT:(828) 467-1158, (828) 765-4281
ORGANIZER:Don Stafford, Roger Wilson
ATTACH;FMTTYPE="image/jpeg":http://storage.ning.com/topology/rest/1.0/
 file/get/967785564?profile=original
ATTENDEE;ROLE=REQ-PARTICIPANT;PARTSTAT=ACCEPTED;RSVP=TRUE;CN="Anthony 
 Hopkins":https://www.southeastwheelsevents.com/profile/AnthonyHopkins
END:VEVENT
END:VCALENDAR
