BEGIN:VCALENDAR
PRODID:NingEventWidget-v1
VERSION:2.0
METHOD:PUBLISH
BEGIN:VTIMEZONE
TZID:Pacific/Midway
X-LIC-LOCATION:Pacific/Midway
BEGIN:STANDARD
TZOFFSETFROM:-1100
TZOFFSETTO:-1100
TZNAME:SST
DTSTART:19700101T000000
END:STANDARD
END:VTIMEZONE
BEGIN:VEVENT
UID:5072275:Event:1093382
DTSTAMP:20260420T172419Z
SUMMARY:Cruise Nights - Cleveland, Tn
DESCRIPTION:Disabled American Veterans, K-Mart, I-75 Exit 27\n\nFor mo
 re information visit https://www.southeastwheelsevents.com/events/crui
 se-nights-cleveland-tn-1
DTSTART;TZID=Pacific/Midway:20180811T180000
DTEND;TZID=Pacific/Midway:20180811T210000
CATEGORIES:cruise-in, car, show
LOCATION:K-Mart, Disabled American Veterans
WEBSITE:
URL:
CONTACT:(423) 336-6641, (423) 310-0377
ORGANIZER:Bill Gray
ATTACH;FMTTYPE="image/jpeg":http://storage.ning.com/topology/rest/1.0/
 file/get/967786562?profile=original
ATTENDEE;ROLE=REQ-PARTICIPANT;PARTSTAT=ACCEPTED;RSVP=TRUE;CN="Anthony 
 Hopkins":https://www.southeastwheelsevents.com/profile/AnthonyHopkins
END:VEVENT
END:VCALENDAR
