BEGIN:VCALENDAR
PRODID:NingEventWidget-v1
VERSION:2.0
METHOD:PUBLISH
BEGIN:VTIMEZONE
TZID:Pacific/Midway
X-LIC-LOCATION:Pacific/Midway
BEGIN:STANDARD
TZOFFSETFROM:-1100
TZOFFSETTO:-1100
TZNAME:SST
DTSTART:19700101T000000
END:STANDARD
END:VTIMEZONE
BEGIN:VEVENT
UID:5072275:Event:1091795
DTSTAMP:20260420T105517Z
SUMMARY:Cruise In- Dahlongea, Ga
DESCRIPTION:Justice Center, Morrison Moore Pkwy\n\nFor more informatio
 n visit https://www.southeastwheelsevents.com/events/cruise-nights-dah
 longea-ga-1
DTSTART;TZID=Pacific/Midway:20180901T180000
DTEND;TZID=Pacific/Midway:20180901T210000
CATEGORIES:car, show, cruise-in
LOCATION:Justice Center,
WEBSITE:https://www.google.co.in/maps/place/The+Law+Offices+of+Richard
 +S.+Lawson/@34.5244033,-83.9891975,17z/data=!3m1!4b1!4m5!3m4!1s0x885f6
 63af76c3597:0x65a6d72bf68b4b03!8m2!3d34.5243989!4d-83.9870088
URL:https://www.google.co.in/maps/place/The+Law+Offices+of+Richard+S.+
 Lawson/@34.5244033,-83.9891975,17z/data=!3m1!4b1!4m5!3m4!1s0x885f663af
 76c3597:0x65a6d72bf68b4b03!8m2!3d34.5243989!4d-83.9870088
CONTACT:(706) 867-5166, (706) 300-0230
ORGANIZER:Harold Rosignoli, Bill Morris
ATTACH;FMTTYPE="image/jpeg":http://storage.ning.com/topology/rest/1.0/
 file/get/967784143?profile=original
ATTENDEE;ROLE=REQ-PARTICIPANT;PARTSTAT=ACCEPTED;RSVP=TRUE;CN="Anthony 
 Hopkins":https://www.southeastwheelsevents.com/profile/AnthonyHopkins
END:VEVENT
END:VCALENDAR
