BEGIN:VCALENDAR
PRODID:NingEventWidget-v1
VERSION:2.0
METHOD:PUBLISH
BEGIN:VTIMEZONE
TZID:Pacific/Midway
X-LIC-LOCATION:Pacific/Midway
BEGIN:STANDARD
TZOFFSETFROM:-1100
TZOFFSETTO:-1100
TZNAME:SST
DTSTART:19700101T000000
END:STANDARD
END:VTIMEZONE
BEGIN:VEVENT
UID:5072275:Event:1093195
DTSTAMP:20260420T145942Z
SUMMARY:Cruise In - Gainesville, Fl
DESCRIPTION:Publix, 39 Avenue, 1-75 Exit 77\n\nFor more information vi
 sit https://www.southeastwheelsevents.com/events/cruise-nights-gainesv
 ille-fl-2
DTSTART;TZID=Pacific/Midway:20180908T180000
DTEND;TZID=Pacific/Midway:20180908T210000
CATEGORIES:cruise-in, car, show
LOCATION:Publix,
WEBSITE:https://www.google.com/maps/place/Publix+Super+Market+at+Sprin
 ghill+Commons/@29.6917013,-82.4424296,17z/data=!3m1!4b1!4m5!3m4!1s0x88
 e8bba2f782fa69:0x2157dcd70721b25!8m2!3d29.6916967!4d-82.4402409
URL:https://www.google.com/maps/place/Publix+Super+Market+at+Springhil
 l+Commons/@29.6917013,-82.4424296,17z/data=!3m1!4b1!4m5!3m4!1s0x88e8bb
 a2f782fa69:0x2157dcd70721b25!8m2!3d29.6916967!4d-82.4402409
CONTACT:(352) 246-5398
ORGANIZER:Vicky Quinn
ATTACH;FMTTYPE="image/jpeg":http://storage.ning.com/topology/rest/1.0/
 file/get/967787718?profile=original
ATTENDEE;ROLE=REQ-PARTICIPANT;PARTSTAT=ACCEPTED;RSVP=TRUE;CN="Anthony 
 Hopkins":https://www.southeastwheelsevents.com/profile/AnthonyHopkins
END:VEVENT
END:VCALENDAR
