BEGIN:VCALENDAR
PRODID:NingEventWidget-v1
VERSION:2.0
METHOD:PUBLISH
BEGIN:VTIMEZONE
TZID:Pacific/Midway
X-LIC-LOCATION:Pacific/Midway
BEGIN:STANDARD
TZOFFSETFROM:-1100
TZOFFSETTO:-1100
TZNAME:SST
DTSTART:19700101T000000
END:STANDARD
END:VTIMEZONE
BEGIN:VEVENT
UID:5072275:Event:1091933
DTSTAMP:20260423T222404Z
SUMMARY:Cruise In - Glencoe, Al
DESCRIPTION:Hardee's, Hwy 431\n\nFor more information visit https://ww
 w.southeastwheelsevents.com/events/cruise-nights-glencoe-al-2
DTSTART;TZID=Pacific/Midway:20180901T180000
DTEND;TZID=Pacific/Midway:20180901T210000
CATEGORIES:car, show, cruise-in
LOCATION:Hardee's,
WEBSITE:https://www.google.co.in/maps/place/HARDEE&amp;amp;amp;#039;&a
 mp;amp;amp;#039;S/@33.9728044,-85.9513487,17z/data=!3m1!4b1!4m5!3m4!1s
 0x888a38951cfb8523:0x47c1a654e3533780!8m2!3d33.9728!4d-85.94916
URL:https://www.google.co.in/maps/place/HARDEE&amp;amp;amp;#039;&amp;a
 mp;amp;#039;S/@33.9728044,-85.9513487,17z/data=!3m1!4b1!4m5!3m4!1s0x88
 8a38951cfb8523:0x47c1a654e3533780!8m2!3d33.9728!4d-85.94916
CONTACT:(256) 543-2080, (256) 399-6928
ORGANIZER:Frankie Riddlespur, Randy Barnard
ATTACH;FMTTYPE="image/jpeg":http://storage.ning.com/topology/rest/1.0/
 file/get/967784152?profile=original
ATTENDEE;ROLE=REQ-PARTICIPANT;PARTSTAT=ACCEPTED;RSVP=TRUE;CN="Anthony 
 Hopkins":https://www.southeastwheelsevents.com/profile/AnthonyHopkins
END:VEVENT
END:VCALENDAR
