BEGIN:VCALENDAR
PRODID:NingEventWidget-v1
VERSION:2.0
METHOD:PUBLISH
BEGIN:VTIMEZONE
TZID:Pacific/Midway
X-LIC-LOCATION:Pacific/Midway
BEGIN:STANDARD
TZOFFSETFROM:-1100
TZOFFSETTO:-1100
TZNAME:SST
DTSTART:19700101T000000
END:STANDARD
END:VTIMEZONE
BEGIN:VEVENT
UID:5072275:Event:1091980
DTSTAMP:20260420T113614Z
SUMMARY:Cruise Nights - Griffin, Ga
DESCRIPTION:Wise Guys Wings, 1531 North Expressway (Hwy 41)\n\nFor mor
 e information visit https://www.southeastwheelsevents.com/events/cruis
 e-nights-griffin-ga
DTSTART;TZID=Pacific/Midway:20180714T180000
DTEND;TZID=Pacific/Midway:20180714T210000
CATEGORIES:cruise-in, car, show
LOCATION:Wise Guys Wings
WEBSITE:https://www.google.co.in/maps/place/1531+N+Expy/@33.3359191,-8
 4.3324901,13z/data=!4m5!1m2!2m1!1s1531+North+Expressway+(Hwy+41),!3m1!
 1s0x88f4f53a7aa4d005:0x892eb35752d893d0
URL:https://www.google.co.in/maps/place/1531+N+Expy/@33.3359191,-84.33
 24901,13z/data=!4m5!1m2!2m1!1s1531+North+Expressway+(Hwy+41),!3m1!1s0x
 88f4f53a7aa4d005:0x892eb35752d893d0
CONTACT:(770) 358-1765, (770) 584-6433
ORGANIZER:Bill Adams
ATTACH;FMTTYPE="image/jpeg":http://storage.ning.com/topology/rest/1.0/
 file/get/967785452?profile=original
ATTENDEE;ROLE=REQ-PARTICIPANT;PARTSTAT=ACCEPTED;RSVP=TRUE;CN="Anthony 
 Hopkins":https://www.southeastwheelsevents.com/profile/AnthonyHopkins
END:VEVENT
END:VCALENDAR
